BEGIN:VCALENDAR
VERSION:2.0
PRODID:SchoolNow
CALSCALE:GREGORIAN
BEGIN:VEVENT
UID:854d6dca-4417-11ed-b7cd-0a188bb29cab
DTSTAMP:20221004T190532Z
SUMMARY:Fall 2023 Priority Registration - Tier 3 - fully matriculated new a
 nd continuing students
URL;VALUE=URI:https://www.frc.edu/about/calendar/3481200/spring-2023-priori
 ty-registration-tier-1-homeless-vets-eops-care-dsps-foster-youth-calworks-
 clone-clone-clone
DTSTART;VALUE=DATE:20230409
DTEND;VALUE=DATE:20230410
END:VEVENT
END:VCALENDAR
