BEGIN:VCALENDAR
VERSION:2.0
PRODID:SchoolNow
CALSCALE:GREGORIAN
BEGIN:VEVENT
UID:616a1dcc-4417-11ed-9308-0a188bb29cab
DTSTAMP:20221004T190432Z
SUMMARY:CENSUS for 2nd 8-week classes
URL;VALUE=URI:https://www.frc.edu/about/calendar/3481199/census-for-2nd-8-w
 eek-classes
DTSTART;VALUE=DATE:20230405
DTEND;VALUE=DATE:20230406
END:VEVENT
END:VCALENDAR
