BEGIN:VCALENDAR
VERSION:2.0
PRODID:SchoolNow
CALSCALE:GREGORIAN
BEGIN:VEVENT
UID:45fbe8fe-4417-11ed-ab17-0a188bb29cab
DTSTAMP:20221004T190346Z
SUMMARY:Last day to drop 2nd 8-week classes without a "W"
URL;VALUE=URI:https://www.frc.edu/about/calendar/3481198/last-day-to-drop-2
 nd-8-week-classes-without-a-w
DTSTART;VALUE=DATE:20230404
DTEND;VALUE=DATE:20230405
END:VEVENT
END:VCALENDAR
