BEGIN:VCALENDAR
VERSION:2.0
PRODID:SchoolNow
CALSCALE:GREGORIAN
BEGIN:VEVENT
UID:1b249a5e-4417-11ed-91c7-0a188bb29cab
DTSTAMP:20221004T190400Z
SUMMARY:Fall 2023 Priority Registration - Tier 2 - TRiO
URL;VALUE=URI:https://www.frc.edu/about/calendar/3481194/fall-2023-priority
 -registration-tier-1-homeless-vets-eops-care-dsps-foster-youth-calworks-cl
 one
DTSTART:20230406T070000Z
DTEND:20230409T065900Z
END:VEVENT
END:VCALENDAR
