BEGIN:VCALENDAR
VERSION:2.0
PRODID:SchoolNow
CALSCALE:GREGORIAN
BEGIN:VEVENT
UID:060d9ac6-4417-11ed-bfbe-0a188bb29cab
DTSTAMP:20221004T190159Z
SUMMARY:Fall 2023 Priority Registration - Tier 1 - Homeless/VETS/EOPS-CARE/
 DSPS/Foster Youth/CalWORKs
URL;VALUE=URI:https://www.frc.edu/about/calendar/3481191/fall-2023-priority
 -registration-tier-1-homeless-vets-eops-care-dsps-foster-youth-calworks
DTSTART:20230403T070000Z
DTEND:20230406T065900Z
END:VEVENT
END:VCALENDAR
