BEGIN:VCALENDAR
VERSION:2.0
PRODID:SchoolNow
CALSCALE:GREGORIAN
BEGIN:VEVENT
UID:cd3aabd0-4416-11ed-ab3d-0a188bb29cab
DTSTAMP:20221004T190024Z
SUMMARY:Summer 2023 registration begins
URL;VALUE=URI:https://www.frc.edu/about/calendar/3481185/summer-2023-regist
 ration-begins
DTSTART;VALUE=DATE:20230403
DTEND;VALUE=DATE:20230404
END:VEVENT
END:VCALENDAR
