BEGIN:VCALENDAR
VERSION:2.0
PRODID:SchoolNow
CALSCALE:GREGORIAN
BEGIN:VEVENT
UID:a9dc540e-4416-11ed-90ad-0a188bb29cab
DTSTAMP:20221004T185924Z
SUMMARY:Last day to enroll in 2nd 8-week classes and drop 2nd 8-week classe
 s with 100% refund
URL;VALUE=URI:https://www.frc.edu/about/calendar/3481181/last-day-to-enroll
 -in-2nd-8-week-classes-and-drop-2nd-8-week-classes-with-100-refund
DTSTART;VALUE=DATE:20230331
DTEND;VALUE=DATE:20230401
END:VEVENT
END:VCALENDAR
