BEGIN:VCALENDAR
VERSION:2.0
PRODID:SchoolNow
CALSCALE:GREGORIAN
BEGIN:VEVENT
UID:7cd7fd46-4416-11ed-80b8-0a188bb29cab
DTSTAMP:20221004T185809Z
SUMMARY:Second 8-week classes begin
URL;VALUE=URI:https://www.frc.edu/about/calendar/3481180/second-8-week-clas
 ses-begin
DTSTART;VALUE=DATE:20230327
DTEND;VALUE=DATE:20230328
END:VEVENT
END:VCALENDAR
