BEGIN:VCALENDAR
VERSION:2.0
PRODID:SchoolNow
CALSCALE:GREGORIAN
BEGIN:VEVENT
UID:5281b8f2-4416-11ed-bf98-0a188bb29cab
DTSTAMP:20221004T185740Z
SUMMARY:First 9-week classes end
URL;VALUE=URI:https://www.frc.edu/about/calendar/3481179/1st-9-week-classes
 -end
DTSTART;VALUE=DATE:20230324
DTEND;VALUE=DATE:20230325
END:VEVENT
END:VCALENDAR
