BEGIN:VCALENDAR
VERSION:2.0
PRODID:SchoolNow
CALSCALE:GREGORIAN
BEGIN:VEVENT
UID:f985312a-f8c5-11ec-b425-0a5c34d56f71
DTSTAMP:20220630T224527Z
SUMMARY:June Time Sheets Due
URL;VALUE=URI:https://www.frc.edu/about/calendar/3235295/june-time-sheets-d
 ue-clone-clone-clone-clone-clone-clone-clone-clone-clone-clone-clone-clone
 -clone-clone-clone-clone-clone-clone-clone-clone-clone-clone-clone-clone
DTSTART;VALUE=DATE:20230630
DTEND;VALUE=DATE:20230701
END:VEVENT
END:VCALENDAR
