BEGIN:VCALENDAR
VERSION:2.0
PRODID:SchoolNow
CALSCALE:GREGORIAN
BEGIN:VEVENT
UID:f1910e76-f8c5-11ec-8faa-0a5c34d56f71
DTSTAMP:20220630T224443Z
SUMMARY:May Time Sheets Due
URL;VALUE=URI:https://www.frc.edu/about/calendar/3235294/june-time-sheets-d
 ue-clone-clone-clone-clone-clone-clone-clone-clone-clone-clone-clone-clone
 -clone-clone-clone-clone-clone-clone-clone-clone-clone-clone-clone
DTSTART;VALUE=DATE:20230531
DTEND;VALUE=DATE:20230601
END:VEVENT
END:VCALENDAR
