BEGIN:VCALENDAR
VERSION:2.0
PRODID:SchoolNow
CALSCALE:GREGORIAN
BEGIN:VEVENT
UID:e92eedca-f8c5-11ec-a9b4-0a5c34d56f71
DTSTAMP:20220630T224413Z
SUMMARY:April Time Sheets Due
URL;VALUE=URI:https://www.frc.edu/about/calendar/3235292/june-time-sheets-d
 ue-clone-clone-clone-clone-clone-clone-clone-clone-clone-clone-clone-clone
 -clone-clone-clone-clone-clone-clone-clone-clone-clone-clone
DTSTART;VALUE=DATE:20230501
DTEND;VALUE=DATE:20230502
END:VEVENT
END:VCALENDAR
