BEGIN:VCALENDAR
VERSION:2.0
PRODID:SchoolNow
CALSCALE:GREGORIAN
BEGIN:VEVENT
UID:a85e847a-f25a-11ec-918c-02b6f021da91
DTSTAMP:20220622T183932Z
SUMMARY:HOLIDAY - Memorial Day - CAMPUS CLOSED
URL;VALUE=URI:https://www.frc.edu/about/calendar/3227439/holiday-memorial-d
 ay-campus-closed
DTSTART;VALUE=DATE:20230529
DTEND;VALUE=DATE:20230530
END:VEVENT
END:VCALENDAR
