BEGIN:VCALENDAR
VERSION:2.0
PRODID:SchoolNow
CALSCALE:GREGORIAN
BEGIN:VEVENT
UID:caf39634-f259-11ec-be39-02b6f021da91
DTSTAMP:20220622T183321Z
SUMMARY:SPRING BREAK - NO CLASSES HELD
URL;VALUE=URI:https://www.frc.edu/about/calendar/3227436/spring-break-no-cl
 asses-held
DTSTART:20230410T150000Z
DTEND:20230415T000000Z
END:VEVENT
END:VCALENDAR
