BEGIN:VCALENDAR
VERSION:2.0
PRODID:SchoolNow
CALSCALE:GREGORIAN
BEGIN:VEVENT
UID:67a63b34-c196-11ec-94b6-021da11470fb
DTSTAMP:20220421T171346Z
SUMMARY:Spring Student BBQ & Celebration - 1 Year Anniversary being Smoke a
 nd Tobacco Free!
LOCATION:Behind the Baseball Field
URL;VALUE=URI:https://www.frc.edu/about/calendar/3177160/1-year-anniversary
 -being-a-smoke-and-tobacco-free-campus
DTSTART:20220428T200000Z
DTEND:20220428T220000Z
ATTACH;FILENAME=1year Smoke and Tobacco Free.pdf;FMTTYPE=application/pdf:ht
 tps://campussuite-storage.s3.amazonaws.com/prod/1558523/0672826e-a84b-11e7
 -9779-0ae3e1d9783c/2387653/c6c8a446-a3c6-11ec-ad90-02c6d8458103/file/1year
  Smoke and Tobacco Free.pdf
END:VEVENT
END:VCALENDAR
