BEGIN:VCALENDAR
VERSION:2.0
PRODID:SchoolNow
CALSCALE:GREGORIAN
BEGIN:VEVENT
UID:e652dd0e-bb40-11ec-abe9-0a6228455dd7
DTSTAMP:20220413T154635Z
SUMMARY:Beach Volleyball vs Sierra College - Rain or shine!
LOCATION:Beach Courts
URL;VALUE=URI:https://www.frc.edu/about/calendar/3171137/beach-volleyball-v
 s-sierra-college-rain-or-shine
DTSTART:20220415T190000Z
DTEND:20220415T200000Z
END:VEVENT
END:VCALENDAR
