BEGIN:VCALENDAR
VERSION:2.0
PRODID:SchoolNow
CALSCALE:GREGORIAN
BEGIN:VEVENT
UID:26bc0678-baaa-11ec-a5ac-02eb1d10a0ff
DTSTAMP:20220414T212908Z
SUMMARY:Denim Day '22
LOCATION:FRC Campus & Town Hall Theater
URL;VALUE=URI:https://www.frc.edu/about/calendar/3169521/denim-day-22
DTSTART:20220427T150000Z
DTEND:20220428T030000Z
END:VEVENT
END:VCALENDAR
