BEGIN:VCALENDAR
VERSION:2.0
PRODID:SchoolNow
CALSCALE:GREGORIAN
BEGIN:VEVENT
UID:295f534e-b9f1-11ec-8a36-025db0222f47
DTSTAMP:20220411T234317Z
SUMMARY:Graduation Meeting
LOCATION:FRC Gallery
URL;VALUE=URI:https://www.frc.edu/about/calendar/3166968/graduation-meeting
DTSTART:20220425T190000Z
DTEND:20220425T200000Z
END:VEVENT
END:VCALENDAR
