BEGIN:VCALENDAR
VERSION:2.0
PRODID:SchoolNow
CALSCALE:GREGORIAN
BEGIN:VEVENT
UID:2a9f7e96-b9bf-11ec-84e0-0eddf7f0c26f
DTSTAMP:20220419T171940Z
SUMMARY:Earth Day Activities
LOCATION:FRC Campus / Town Hall Theatre
URL;VALUE=URI:https://www.frc.edu/about/calendar/3165567/earth-day-cultrual
 -fair
DTSTART:20220421T190000Z
DTEND:20220422T020000Z
ATTACH;FILENAME=Inhabitants.jpg;FMTTYPE=image/jpeg:https://campussuite-stor
 age.s3.amazonaws.com/prod/1558523/0672826e-a84b-11e7-9779-0ae3e1d9783c/240
 4079/d73107ec-c004-11ec-b641-0a5b804ccd83/file/Inhabitants.jpg
END:VEVENT
END:VCALENDAR
