BEGIN:VCALENDAR
VERSION:2.0
PRODID:SchoolNow
CALSCALE:GREGORIAN
BEGIN:VEVENT
UID:7444a986-b500-11ec-8c92-0e49c9fc6b55
DTSTAMP:20220405T165009Z
SUMMARY:Prescribed Burn On Campus - Tuesday
URL;VALUE=URI:https://www.frc.edu/about/calendar/3153857/prescribed-burn-on
 -campus-day-1
DTSTART:20220405T150000Z
DTEND:20220406T000000Z
ATTACH;FILENAME=Fire Burn Plan - Updated.pdf;FMTTYPE=application/pdf:https:
 //campussuite-storage.s3.amazonaws.com/prod/1558523/0672826e-a84b-11e7-977
 9-0ae3e1d9783c/2398324/26d50880-b500-11ec-8da8-0e47634bc63f/file/Fire Burn
  Plan - Updated.pdf
END:VEVENT
END:VCALENDAR
