BEGIN:VCALENDAR
VERSION:2.0
PRODID:SchoolNow
CALSCALE:GREGORIAN
BEGIN:VEVENT
UID:cf172ae0-b051-11ec-bc8c-0245661d042d
DTSTAMP:20220330T174955Z
SUMMARY:High Sierra Parent Conference
LOCATION:Zoom
URL;VALUE=URI:https://www.frc.edu/about/calendar/3148099/high-sierra-parent
 -conference
DTSTART:20220430T160000Z
DTEND:20220430T193000Z
END:VEVENT
END:VCALENDAR
