BEGIN:VCALENDAR
VERSION:2.0
PRODID:SchoolNow
CALSCALE:GREGORIAN
BEGIN:VEVENT
UID:04f4838c-af86-11ec-a4b2-0ae486325a21
DTSTAMP:20220329T173108Z
SUMMARY:Student Recognition Awards
LOCATION:Upper Green by Eagle's Perch
URL;VALUE=URI:https://www.frc.edu/about/calendar/3146220/student-recognitio
 n-awards
DTSTART:20220426T190000Z
DTEND:20220426T200000Z
END:VEVENT
END:VCALENDAR
