BEGIN:VCALENDAR
VERSION:2.0
PRODID:SchoolNow
CALSCALE:GREGORIAN
BEGIN:VEVENT
UID:478943d8-af7f-11ec-9cfe-0ae486325a21
DTSTAMP:20220329T164253Z
SUMMARY:Info Session for upcoming Cultural Fair
LOCATION:Outside the Perch
URL;VALUE=URI:https://www.frc.edu/about/calendar/3146205/info-session-for-u
 pcoming-cultural-fair
DTSTART:20220406T190000Z
DTEND:20220406T200000Z
END:VEVENT
END:VCALENDAR
