BEGIN:VCALENDAR
VERSION:2.0
PRODID:SchoolNow
CALSCALE:GREGORIAN
BEGIN:VEVENT
UID:fc97a1b2-af7e-11ec-9bff-0ae486325a21
DTSTAMP:20220418T161010Z
SUMMARY:ASFRC Elections
URL;VALUE=URI:https://www.frc.edu/about/calendar/3146204/asfrc-elections
DTSTART:20220418T150000Z
DTEND:20220421T000000Z
ATTACH;FILENAME=ASFRC_2022-2023 Student Statements w pictures.pdf;FMTTYPE=a
 pplication/pdf:https://campussuite-storage.s3.amazonaws.com/prod/1558523/0
 672826e-a84b-11e7-9779-0ae3e1d9783c/2403305/fc498168-bf31-11ec-94b5-022aed
 f6010f/file/ASFRC_2022-2023 Student Statements w pictures.pdf
END:VEVENT
END:VCALENDAR
