BEGIN:VCALENDAR
VERSION:2.0
PRODID:SchoolNow
CALSCALE:GREGORIAN
BEGIN:VEVENT
UID:e73ee200-af7c-11ec-a82a-0ae486325a21
DTSTAMP:20220408T165715Z
SUMMARY:ASFRC Ballot Statement Due by midnight!
LOCATION:Ballot Statement Form - ASFRC Officer 2022-2023
URL;VALUE=URI:https://www.frc.edu/about/calendar/3146185/asfrc-ballot-state
 ment-due
DTSTART;VALUE=DATE:20220408
DTEND;VALUE=DATE:20220409
END:VEVENT
END:VCALENDAR
