BEGIN:VCALENDAR
VERSION:2.0
PRODID:SchoolNow
CALSCALE:GREGORIAN
BEGIN:VEVENT
UID:fb6e34d2-a47e-11ec-9009-026f5a40754f
DTSTAMP:20220315T164342Z
SUMMARY:Softball vs College of the Redwoods (DH) - New Date!!
LOCATION:Softball field
URL;VALUE=URI:https://www.frc.edu/about/calendar/3133751/softball-vs-colleg
 e-of-the-redwoods-dh
DTSTART:20220317T190000Z
DTEND:20220317T200000Z
END:VEVENT
END:VCALENDAR
