BEGIN:VCALENDAR
VERSION:2.0
PRODID:SchoolNow
CALSCALE:GREGORIAN
BEGIN:VEVENT
UID:ee6929a0-a47d-11ec-85ea-0e6a69ecc4a5
DTSTAMP:20220315T164331Z
SUMMARY:Baseball vs Butte College (DH)-New Date!!
LOCATION:Eagles Nest
URL;VALUE=URI:https://www.frc.edu/about/calendar/3133749/baseball-vs-butte-
 college-dh
DTSTART:20220318T190000Z
DTEND:20220318T200000Z
END:VEVENT
END:VCALENDAR
