BEGIN:VCALENDAR
VERSION:2.0
PRODID:SchoolNow
CALSCALE:GREGORIAN
BEGIN:VEVENT
UID:c5a09374-a3eb-11ec-be73-0eaeec9506b7
DTSTAMP:20220316T230453Z
SUMMARY:FLEX DAY - NO CLASSES HELD
URL;VALUE=URI:https://www.frc.edu/about/calendar/3133054/flex-day-no-classe
 s-held
DTSTART:20220322T150000Z
DTEND:20220323T000000Z
ATTACH;FILENAME=Flex Day Agenda Spring 2022.pdf;FMTTYPE=application/pdf:htt
 ps://campussuite-storage.s3.amazonaws.com/prod/1558523/0672826e-a84b-11e7-
 9779-0ae3e1d9783c/2388884/77fbe1ee-a57d-11ec-b45c-0a0837899e69/file/Flex D
 ay Agenda Spring 2022.pdf
END:VEVENT
END:VCALENDAR
