BEGIN:VCALENDAR
VERSION:2.0
PRODID:SchoolNow
CALSCALE:GREGORIAN
BEGIN:VEVENT
UID:928f93b8-a3eb-11ec-82b5-0eaeec9506b7
DTSTAMP:20220315T153355Z
SUMMARY:Roni Habib - Flex Day Keynote & Breakout Session
LOCATION:Gymnasium
URL;VALUE=URI:https://www.frc.edu/about/calendar/3133053/roni-habib-from-eq
 -schools-visits-frc-clone
DTSTART:20220322T174500Z
DTEND:20220322T210000Z
END:VEVENT
END:VCALENDAR
