BEGIN:VCALENDAR
VERSION:2.0
PRODID:SchoolNow
CALSCALE:GREGORIAN
BEGIN:VEVENT
UID:9ffebcc8-a007-11ec-a53d-0e9bc601a1c3
DTSTAMP:20220330T231114Z
SUMMARY:April Fool's Dodgeball Tournament
LOCATION:Gymnasium
URL;VALUE=URI:https://www.frc.edu/about/calendar/3129123/april-fools-dodgeb
 all-tournament
DTSTART:20220402T020000Z
DTEND:20220402T050000Z
ATTACH;FILENAME=Dodgeball Tournament Flyer - Hyperlink.pdf;FMTTYPE=applicat
 ion/pdf:https://campussuite-storage.s3.amazonaws.com/prod/1558523/0672826e
 -a84b-11e7-9779-0ae3e1d9783c/2385969/aa9e3a10-9ffc-11ec-903a-0ea7a23b4d19/
 file/Dodgeball Tournament Flyer - Hyperlink.pdf
END:VEVENT
END:VCALENDAR
