BEGIN:VCALENDAR
VERSION:2.0
PRODID:SchoolNow
CALSCALE:GREGORIAN
BEGIN:VEVENT
UID:16c34b5a-a001-11ec-b972-02b67130b4e3
DTSTAMP:20220315T152851Z
SUMMARY:Roni Habib - Mindful Parenting During COVID and Beyond
LOCATION:Student Services Room 630
URL;VALUE=URI:https://www.frc.edu/about/calendar/3129122/roni-habib-from-eq
 -schools-visits-frc
DTSTART:20220321T190000Z
DTEND:20220321T203000Z
END:VEVENT
END:VCALENDAR
