BEGIN:VCALENDAR
VERSION:2.0
PRODID:SchoolNow
CALSCALE:GREGORIAN
BEGIN:VEVENT
UID:48af3c9c-9fce-11ec-bdba-0ab229375acd
DTSTAMP:20220309T172807Z
SUMMARY:Beach Volleyball vs College of Southern Idaho
LOCATION:Beach courts @ 570 Golden Eagle Ave. Quincy CA
URL;VALUE=URI:https://www.frc.edu/about/calendar/3128738/beach-volleyball-v
 s-college-of-southern-idaho
DTSTART:20220423T170000Z
DTEND:20220423T230000Z
END:VEVENT
END:VCALENDAR
