BEGIN:VCALENDAR
VERSION:2.0
PRODID:SchoolNow
CALSCALE:GREGORIAN
BEGIN:VEVENT
UID:7045aed6-9e4c-11ec-b47e-0e4844a363b1
DTSTAMP:20220307T192607Z
SUMMARY:Softball vs Solano College (DH)
URL;VALUE=URI:https://www.frc.edu/about/calendar/3126890/softball-vs-solano
 -college-dh
DTSTART:20220310T200000Z
DTEND:20220311T000000Z
END:VEVENT
END:VCALENDAR
