BEGIN:VCALENDAR
VERSION:2.0
PRODID:SchoolNow
CALSCALE:GREGORIAN
BEGIN:VEVENT
UID:696b52b4-9997-11ec-a2b4-0a5e6c8d373b
DTSTAMP:20240205T194959Z
SUMMARY:TRiO SSS - Student Orientation (Two Session Options)
LOCATION:TRiO Lab (Student Services Building)
URL;VALUE=URI:https://www.frc.edu/about/calendar/3121186/student-orientatio
 n
DTSTART:20240207T200000Z
DTEND:20240207T210000Z
END:VEVENT
END:VCALENDAR
