BEGIN:VCALENDAR
VERSION:2.0
PRODID:SchoolNow
CALSCALE:GREGORIAN
BEGIN:VEVENT
UID:991d2dd8-997a-11ec-80f2-0af7b8c79183
DTSTAMP:20220301T161357Z
SUMMARY:Campus Teach-In on the Crisis in Ukraine
LOCATION:Gallery classroom
URL;VALUE=URI:https://www.frc.edu/about/calendar/3120721/campus-teach-in-on
 -the-crisis-in-ukraine
DTSTART:20220304T180000Z
DTEND:20220304T190000Z
END:VEVENT
END:VCALENDAR
