BEGIN:VCALENDAR
VERSION:2.0
PRODID:SchoolNow
CALSCALE:GREGORIAN
BEGIN:VEVENT
UID:32ed85c0-98e5-11ec-bebf-0a6566b27755
DTSTAMP:20220228T222431Z
SUMMARY:Mardi Gras Celebratory Lunch
LOCATION:Eagle's Perch Cafe
URL;VALUE=URI:https://www.frc.edu/about/calendar/3119658/black-history-mont
 h-free-lunch-clone
DTSTART:20220301T190000Z
DTEND:20220301T220000Z
END:VEVENT
END:VCALENDAR
