BEGIN:VCALENDAR
VERSION:2.0
PRODID:SchoolNow
CALSCALE:GREGORIAN
BEGIN:VEVENT
UID:4ac6197a-9401-11ec-b69a-0a1e4ee7b8df
DTSTAMP:20220222T170320Z
SUMMARY:Beach Volleyball - Sierra/Marin/Delta Colleges
LOCATION:570 Golden Eagle Ave. Quincy CA 95971 - Beach courts located betwe
 en baseball and soccer fields
URL;VALUE=URI:https://www.frc.edu/about/calendar/3111682/beach-volleyball-s
 ierra-marin-delta-colleges
DTSTART:20220408T170000Z
DTEND:20220408T180000Z
END:VEVENT
END:VCALENDAR
