BEGIN:VCALENDAR
VERSION:2.0
PRODID:SchoolNow
CALSCALE:GREGORIAN
BEGIN:VEVENT
UID:bb897914-9400-11ec-8f9e-025562101b21
DTSTAMP:20220222T165900Z
SUMMARY:Softball vs Yuba College (DH)
LOCATION:570 Golden Eagle Ave. Quincy CA 95971 - Softball field
URL;VALUE=URI:https://www.frc.edu/about/calendar/3111680/softball-vs-yuba-c
 ollege-dh
DTSTART:20220226T200000Z
DTEND:20220226T210000Z
END:VEVENT
END:VCALENDAR
