BEGIN:VCALENDAR
VERSION:2.0
PRODID:SchoolNow
CALSCALE:GREGORIAN
BEGIN:VEVENT
UID:2ae6bc40-8ea7-11ec-8831-028f0141988b
DTSTAMP:20220215T213517Z
SUMMARY:Softball vs Lassen (DH)
LOCATION:570 Golden Eagle Ave. Quincy CA 95971
URL;VALUE=URI:https://www.frc.edu/about/calendar/3104716/softball-vs-lassen
 -dh
DTSTART:20220423T190000Z
DTEND:20220423T200000Z
END:VEVENT
END:VCALENDAR
