BEGIN:VCALENDAR
VERSION:2.0
PRODID:SchoolNow
CALSCALE:GREGORIAN
BEGIN:VEVENT
UID:04212528-8ea7-11ec-b1f4-0eb9df051fbf
DTSTAMP:20220215T213412Z
SUMMARY:Softball vs Siskiyous (DH)
LOCATION:570 Golden Eagle Ave.\, Quincy CA 95971
URL;VALUE=URI:https://www.frc.edu/about/calendar/3104711/softball-vs-siskiy
 ous-dh
DTSTART:20220402T190000Z
DTEND:20220402T200000Z
END:VEVENT
END:VCALENDAR
