BEGIN:VCALENDAR
VERSION:2.0
PRODID:SchoolNow
CALSCALE:GREGORIAN
BEGIN:VEVENT
UID:dd650b98-8ea6-11ec-8b36-0ab50a4040b5
DTSTAMP:20220215T213307Z
SUMMARY:Softball vs Butte (DH)
LOCATION:570 Golden Eagle Ave.\, Quincy CA 95971
URL;VALUE=URI:https://www.frc.edu/about/calendar/3104709/softball-vs-butte-
 dh
DTSTART:20220325T190000Z
DTEND:20220325T200000Z
END:VEVENT
END:VCALENDAR
