BEGIN:VCALENDAR
VERSION:2.0
PRODID:SchoolNow
CALSCALE:GREGORIAN
BEGIN:VEVENT
UID:ba5ff0cc-8ea6-11ec-bac0-0a4fd36be55f
DTSTAMP:20220215T213208Z
SUMMARY:Softball vs Redwoods (DH)
LOCATION:570 Golden Eagle Ave.\, Quincy CA 95971
URL;VALUE=URI:https://www.frc.edu/about/calendar/3104707/softball-vs-redwoo
 ds-dh
DTSTART:20220219T200000Z
DTEND:20220219T210000Z
END:VEVENT
END:VCALENDAR
