BEGIN:VCALENDAR
VERSION:2.0
PRODID:SchoolNow
CALSCALE:GREGORIAN
BEGIN:VEVENT
UID:97c8dce0-8ea6-11ec-bdf5-0abca8c57d7f
DTSTAMP:20220215T213110Z
SUMMARY:Softball vs Shasta (DH)
LOCATION:570 Golden Eagle Ave.\, Quincy CA 95971
URL;VALUE=URI:https://www.frc.edu/about/calendar/3104705/softball-vs-shasta
 -dh
DTSTART:20220318T190000Z
DTEND:20220318T200000Z
END:VEVENT
END:VCALENDAR
