BEGIN:VCALENDAR
VERSION:2.0
PRODID:SchoolNow
CALSCALE:GREGORIAN
BEGIN:VEVENT
UID:6de9ff62-8ea6-11ec-a6aa-02d61795e78b
DTSTAMP:20220215T213000Z
SUMMARY:Softball vs Yuba (DH)
LOCATION:570 Golden Eagle Ave.\, Quincy CA 95971
URL;VALUE=URI:https://www.frc.edu/about/calendar/3104703/softball-vs-yuba-d
 h
DTSTART:20220226T200000Z
DTEND:20220226T210000Z
END:VEVENT
END:VCALENDAR
