BEGIN:VCALENDAR
VERSION:2.0
PRODID:SchoolNow
CALSCALE:GREGORIAN
BEGIN:VEVENT
UID:08f500a2-8ea6-11ec-8bb5-020f269ee9e9
DTSTAMP:20220215T212710Z
SUMMARY:Baseball vs Lassen
URL;VALUE=URI:https://www.frc.edu/about/calendar/3104699/baseball-vs-lassen
DTSTART:20220428T220000Z
DTEND:20220428T230000Z
END:VEVENT
END:VCALENDAR
