BEGIN:VCALENDAR
VERSION:2.0
PRODID:SchoolNow
CALSCALE:GREGORIAN
BEGIN:VEVENT
UID:e8c0eea4-8ea5-11ec-8c73-0ea086e779f7
DTSTAMP:20220215T212616Z
SUMMARY:Baseball vs Butte
LOCATION:Eagles Nest - 570 Golden Eagle Ave.\, Quincy CA 95971
URL;VALUE=URI:https://www.frc.edu/about/calendar/3104698/baseball-vs-butte
DTSTART:20220422T210000Z
DTEND:20220422T220000Z
END:VEVENT
END:VCALENDAR
