BEGIN:VCALENDAR
VERSION:2.0
PRODID:SchoolNow
CALSCALE:GREGORIAN
BEGIN:VEVENT
UID:c94f330a-8ea5-11ec-b215-02ad222c6281
DTSTAMP:20220413T153926Z
SUMMARY:Baseball vs Redwoods (**Single game)
LOCATION:Eagles Nest - 570 Golden Eagle Ave.\, Quincy CA 95971
URL;VALUE=URI:https://www.frc.edu/about/calendar/3104695/baseball-vs-redwoo
 ds
DTSTART:20220419T190000Z
DTEND:20220419T200000Z
END:VEVENT
END:VCALENDAR
