BEGIN:VCALENDAR
VERSION:2.0
PRODID:SchoolNow
CALSCALE:GREGORIAN
BEGIN:VEVENT
UID:a094ddd4-8ea5-11ec-8b5d-0eb9df051fbf
DTSTAMP:20220413T153658Z
SUMMARY:Baseball vs Redwoods (**Single game) - Rescheduled from 4/15
LOCATION:Eagles Nest - 570 Golden Eagle Ave.\, Quincy CA 95971
URL;VALUE=URI:https://www.frc.edu/about/calendar/3104693/baseball-vs-redwoo
 ds
DTSTART:20220418T230000Z
DTEND:20220419T000000Z
END:VEVENT
END:VCALENDAR
