BEGIN:VCALENDAR
VERSION:2.0
PRODID:SchoolNow
CALSCALE:GREGORIAN
BEGIN:VEVENT
UID:7c04e108-8ea5-11ec-9743-02ad222c6281
DTSTAMP:20220215T212314Z
SUMMARY:Baseball vs Lassen
LOCATION:Eagles Nest - 570 Golden Eagle Ave.\, Quincy CA 95971
URL;VALUE=URI:https://www.frc.edu/about/calendar/3104692/baseball-vs-lassen
DTSTART:20220325T210000Z
DTEND:20220325T220000Z
END:VEVENT
END:VCALENDAR
