BEGIN:VCALENDAR
VERSION:2.0
PRODID:SchoolNow
CALSCALE:GREGORIAN
BEGIN:VEVENT
UID:abb8459a-8ea3-11ec-90c2-02672b2c97ef
DTSTAMP:20220215T211015Z
SUMMARY:Baseball vs Shasta (DH)
LOCATION:Eagles Nest - 570 Golden Eagle Ave.\, Quincy CA 95971
URL;VALUE=URI:https://www.frc.edu/about/calendar/3104663/baseball-vs-shasta
 -dh
DTSTART:20220305T200000Z
DTEND:20220305T210000Z
END:VEVENT
END:VCALENDAR
